BEGIN:VCALENDAR
VERSION:2.0
CALSCALE:GREGORIAN
PRODID:adamgibbons/ics
METHOD:PUBLISH
X-PUBLISHED-TTL:PT1H
BEGIN:VEVENT
UID:iVEu_C5mp3C75K1q7t_bT
SUMMARY:Interim Report Q3
DTSTAMP:20260422T074632Z
DTSTART:20261023T053200Z
DTEND:20261023T053200Z
END:VEVENT
END:VCALENDAR
