BEGIN:VCALENDAR
VERSION:2.0
CALSCALE:GREGORIAN
PRODID:adamgibbons/ics
METHOD:PUBLISH
X-PUBLISHED-TTL:PT1H
BEGIN:VEVENT
UID:2stk_1ecw8R-_zo37K8rN
SUMMARY:Interim Report Q2
DTSTAMP:20260421T195423Z
DTSTART:20260716T053100Z
DTEND:20260716T053200Z
END:VEVENT
END:VCALENDAR
