BEGIN:VCALENDAR
VERSION:2.0
CALSCALE:GREGORIAN
PRODID:adamgibbons/ics
METHOD:PUBLISH
X-PUBLISHED-TTL:PT1H
BEGIN:VEVENT
UID:uf4Gl7O6U-EaGi2f6ezhf
SUMMARY:Interim Report Q1
DTSTAMP:20260421T201936Z
DTSTART:20260428T053000Z
DTEND:20260428T053000Z
END:VEVENT
END:VCALENDAR
