BEGIN:VCALENDAR
VERSION:2.0
CALSCALE:GREGORIAN
PRODID:adamgibbons/ics
METHOD:PUBLISH
X-PUBLISHED-TTL:PT1H
BEGIN:VEVENT
UID:Fd2FEFTjhQQFpT48JiS5Q
SUMMARY:Annual Report 2025
DTSTAMP:20260421T201747Z
DTSTART:20260421T135300Z
DTEND:20260421T135300Z
END:VEVENT
END:VCALENDAR
