BEGIN:VCALENDAR
VERSION:2.0
CALSCALE:GREGORIAN
PRODID:adamgibbons/ics
METHOD:PUBLISH
X-PUBLISHED-TTL:PT1H
BEGIN:VEVENT
UID:C64M5b3VK80G23OuFe4J9
SUMMARY:Annual General Meeting 2025
DTSTAMP:20260421T195328Z
DTSTART:20260512T053100Z
DTEND:20260512T053100Z
END:VEVENT
END:VCALENDAR
